BEGIN:VCALENDAR
VERSION:2.0
PRODID:-//Central Pierce Fire &amp; Rescue - ECPv6.15.20//NONSGML v1.0//EN
CALSCALE:GREGORIAN
METHOD:PUBLISH
X-WR-CALNAME:Central Pierce Fire &amp; Rescue
X-ORIGINAL-URL:https://www.centralpiercefire.org
X-WR-CALDESC:Events for Central Pierce Fire &amp; Rescue
REFRESH-INTERVAL;VALUE=DURATION:PT1H
X-Robots-Tag:noindex
X-PUBLISHED-TTL:PT1H
BEGIN:VTIMEZONE
TZID:America/Los_Angeles
BEGIN:DAYLIGHT
TZOFFSETFROM:-0800
TZOFFSETTO:-0700
TZNAME:PDT
DTSTART:20200308T100000
END:DAYLIGHT
BEGIN:STANDARD
TZOFFSETFROM:-0700
TZOFFSETTO:-0800
TZNAME:PST
DTSTART:20201101T090000
END:STANDARD
BEGIN:DAYLIGHT
TZOFFSETFROM:-0800
TZOFFSETTO:-0700
TZNAME:PDT
DTSTART:20210314T100000
END:DAYLIGHT
BEGIN:STANDARD
TZOFFSETFROM:-0700
TZOFFSETTO:-0800
TZNAME:PST
DTSTART:20211107T090000
END:STANDARD
BEGIN:DAYLIGHT
TZOFFSETFROM:-0800
TZOFFSETTO:-0700
TZNAME:PDT
DTSTART:20220313T100000
END:DAYLIGHT
BEGIN:STANDARD
TZOFFSETFROM:-0700
TZOFFSETTO:-0800
TZNAME:PST
DTSTART:20221106T090000
END:STANDARD
END:VTIMEZONE
BEGIN:VEVENT
DTSTART;TZID=America/Los_Angeles:20210809T170000
DTEND;TZID=America/Los_Angeles:20210809T180000
DTSTAMP:20260423T041626
CREATED:20210506T211535Z
LAST-MODIFIED:20210805T224355Z
UID:695-1628528400-1628532000@www.centralpiercefire.org
SUMMARY:Board of Commissioners Meeting
DESCRIPTION:Due to COVID 19\, the Board of Fire Commissioners will hold virtual meetings on the 2nd and 4th Monday of each month. Public comments will be accepted and may be submitted by email to dporter@centralpiercefire.org until 4:30 on the day of each meeting. \nPlease click this URL to join. https://us02web.zoom.us/j/81549238623?pwd=UW1VZ1BURlBBUUd5Y2ZobmZ1TFRndz09 \nPasscode: 586333 \nOr join by phone: \n1 253 215 8782 \nWebinar ID: 815 4923 8623 \nPasscode: 586333
URL:https://www.centralpiercefire.org/event/board-meeting-2021-08-09/
LOCATION:Virtual
CATEGORIES:Board Meetings
ATTACH;FMTTYPE=image/jpeg:https://www.centralpiercefire.org/wp-content/uploads/DSUBVAHV4AAbKMT-e1621360506589.jpg
ORGANIZER;CN="Central Pierce Fire & Rescue":MAILTO:info@centralpiercefire.org
END:VEVENT
END:VCALENDAR