BEGIN:VCALENDAR
VERSION:2.0
PRODID:-//Central Pierce Fire &amp; Rescue - ECPv6.15.20//NONSGML v1.0//EN
CALSCALE:GREGORIAN
METHOD:PUBLISH
X-WR-CALNAME:Central Pierce Fire &amp; Rescue
X-ORIGINAL-URL:https://www.centralpiercefire.org
X-WR-CALDESC:Events for Central Pierce Fire &amp; Rescue
REFRESH-INTERVAL;VALUE=DURATION:PT1H
X-Robots-Tag:noindex
X-PUBLISHED-TTL:PT1H
BEGIN:VTIMEZONE
TZID:America/Los_Angeles
BEGIN:DAYLIGHT
TZOFFSETFROM:-0800
TZOFFSETTO:-0700
TZNAME:PDT
DTSTART:20240310T100000
END:DAYLIGHT
BEGIN:STANDARD
TZOFFSETFROM:-0700
TZOFFSETTO:-0800
TZNAME:PST
DTSTART:20241103T090000
END:STANDARD
BEGIN:DAYLIGHT
TZOFFSETFROM:-0800
TZOFFSETTO:-0700
TZNAME:PDT
DTSTART:20250309T100000
END:DAYLIGHT
BEGIN:STANDARD
TZOFFSETFROM:-0700
TZOFFSETTO:-0800
TZNAME:PST
DTSTART:20251102T090000
END:STANDARD
BEGIN:DAYLIGHT
TZOFFSETFROM:-0800
TZOFFSETTO:-0700
TZNAME:PDT
DTSTART:20260308T100000
END:DAYLIGHT
BEGIN:STANDARD
TZOFFSETFROM:-0700
TZOFFSETTO:-0800
TZNAME:PST
DTSTART:20261101T090000
END:STANDARD
END:VTIMEZONE
BEGIN:VEVENT
DTSTART;TZID=America/Los_Angeles:20251206T080000
DTEND;TZID=America/Los_Angeles:20251206T170000
DTSTAMP:20260419T002301
CREATED:20250102T154216Z
LAST-MODIFIED:20250102T154216Z
UID:10000835-1765008000-1765040400@www.centralpiercefire.org
SUMMARY:CPR & First Aid Class
DESCRIPTION:Join us for our CPR & First Aid class! For more information about the class and how to sign up\, visit our CPR & First Aid page. Click here for more information.
URL:https://www.centralpiercefire.org/event/cpr-first-aid-class-8/2025-12-06/
LOCATION:Station 71\, 902 7th St NW\, Puyallup\, WA\, 98371\, United States
ATTACH;FMTTYPE=image/jpeg:https://www.centralpiercefire.org/wp-content/uploads/Featured-Image-8.jpg
END:VEVENT
BEGIN:VEVENT
DTSTART;TZID=America/Los_Angeles:20251206T130000
DTEND;TZID=America/Los_Angeles:20251206T150000
DTSTAMP:20260419T002301
CREATED:20251107T211449Z
LAST-MODIFIED:20251107T211913Z
UID:10000894-1765026000-1765033200@www.centralpiercefire.org
SUMMARY:Station 40 Winter Open House
DESCRIPTION:Join us at Station 40 for a Winter Open House! Bring the whole family to explore our fire engine and medic unit\, sip hot cocoa\, take a photo with Santa\, meet the crews who serve your community\, decorate Christmas ornaments\, and more. \nWe’ll also be collecting canned and non-perishable food items. Help us make a difference in our community! \nDonations collected at the Station 40 open house will go to the Orting Food Bank \nWe hope to see you there!
URL:https://www.centralpiercefire.org/event/station-40-winter-open-house/
LOCATION:Station 40\, 401 Washington Ave SE\, Orting\, WA\, 98360\, United States
ATTACH;FMTTYPE=image/png:https://www.centralpiercefire.org/wp-content/uploads/Website-Event-Calendar-1.png
END:VEVENT
END:VCALENDAR