BEGIN:VCALENDAR
VERSION:2.0
PRODID:-//Central Pierce Fire &amp; Rescue - ECPv6.15.20//NONSGML v1.0//EN
CALSCALE:GREGORIAN
METHOD:PUBLISH
X-WR-CALNAME:Central Pierce Fire &amp; Rescue
X-ORIGINAL-URL:https://www.centralpiercefire.org
X-WR-CALDESC:Events for Central Pierce Fire &amp; Rescue
REFRESH-INTERVAL;VALUE=DURATION:PT1H
X-Robots-Tag:noindex
X-PUBLISHED-TTL:PT1H
BEGIN:VTIMEZONE
TZID:America/Los_Angeles
BEGIN:DAYLIGHT
TZOFFSETFROM:-0800
TZOFFSETTO:-0700
TZNAME:PDT
DTSTART:20240310T100000
END:DAYLIGHT
BEGIN:STANDARD
TZOFFSETFROM:-0700
TZOFFSETTO:-0800
TZNAME:PST
DTSTART:20241103T090000
END:STANDARD
BEGIN:DAYLIGHT
TZOFFSETFROM:-0800
TZOFFSETTO:-0700
TZNAME:PDT
DTSTART:20250309T100000
END:DAYLIGHT
BEGIN:STANDARD
TZOFFSETFROM:-0700
TZOFFSETTO:-0800
TZNAME:PST
DTSTART:20251102T090000
END:STANDARD
BEGIN:DAYLIGHT
TZOFFSETFROM:-0800
TZOFFSETTO:-0700
TZNAME:PDT
DTSTART:20260308T100000
END:DAYLIGHT
BEGIN:STANDARD
TZOFFSETFROM:-0700
TZOFFSETTO:-0800
TZNAME:PST
DTSTART:20261101T090000
END:STANDARD
END:VTIMEZONE
BEGIN:VEVENT
DTSTART;TZID=America/Los_Angeles:20250503T080000
DTEND;TZID=America/Los_Angeles:20250503T170000
DTSTAMP:20260421T073320
CREATED:20250102T154216Z
LAST-MODIFIED:20250102T154216Z
UID:10000828-1746259200-1746291600@www.centralpiercefire.org
SUMMARY:CPR & First Aid Class
DESCRIPTION:Join us for our CPR & First Aid class! For more information about the class and how to sign up\, visit our CPR & First Aid page. Click here for more information.
URL:https://www.centralpiercefire.org/event/cpr-first-aid-class-8/2025-05-03/
LOCATION:Station 71\, 902 7th St NW\, Puyallup\, WA\, 98371\, United States
ATTACH;FMTTYPE=image/jpeg:https://www.centralpiercefire.org/wp-content/uploads/Featured-Image-8.jpg
END:VEVENT
BEGIN:VEVENT
DTSTART;TZID=America/Los_Angeles:20250503T090000
DTEND;TZID=America/Los_Angeles:20250503T140000
DTSTAMP:20260421T073320
CREATED:20250418T163311Z
LAST-MODIFIED:20250418T164116Z
UID:10000849-1746262800-1746280800@www.centralpiercefire.org
SUMMARY:Puyallup Farmers' Market
DESCRIPTION:Join us at the Puyallup Farmers’ Market. We can’t wait to see you there!
URL:https://www.centralpiercefire.org/event/puyallup-farmers-market-8/
LOCATION:Pioneer Park\, 330 S Meridian\, Puyallup\, WA\, 98371\, United States
ATTACH;FMTTYPE=image/jpeg:https://www.centralpiercefire.org/wp-content/uploads/Featured-Image-3.jpg
END:VEVENT
BEGIN:VEVENT
DTSTART;TZID=America/Los_Angeles:20250512T180000
DTEND;TZID=America/Los_Angeles:20250512T190000
DTSTAMP:20260421T073320
CREATED:20241231T004250Z
LAST-MODIFIED:20241231T004250Z
UID:10000805-1747072800-1747076400@www.centralpiercefire.org
SUMMARY:Board of Commissioners Meeting
DESCRIPTION:The joint Board of Fire Commissioners meeting will be held virtually and in-person on the second and fourth Monday of the month at 6 p.m. \nAttend Virtually:  \nLink: https://us02web.zoom.us/j/81549238623?pwd=UW1VZ1BURlBBUUd5Y2ZobmZ1TFRndz09 \nWebinar ID: 815 4923 8623 \nPasscode: 586333 \nDial by your location: +1 253 215 8782 \nTo attend in-person: \nPlease join us at 1015 39th Ave. SE\, Suite 120\, Puyallup\, WA 98374. \nFind the Board of Commissioners Meeting Agendas\, Packets\, and Minutes here.
URL:https://www.centralpiercefire.org/event/board-of-commissioners-meeting-26/
LOCATION:Central Pierce Fire & Rescue Headquarters\, 1015 39th Ave. SE\, Suite 120\, Puyallup\, 98374
CATEGORIES:Board Meetings
END:VEVENT
BEGIN:VEVENT
DTSTART;TZID=America/Los_Angeles:20250517T090000
DTEND;TZID=America/Los_Angeles:20250517T140000
DTSTAMP:20260421T073320
CREATED:20250418T163437Z
LAST-MODIFIED:20250418T164130Z
UID:10000850-1747472400-1747490400@www.centralpiercefire.org
SUMMARY:Puyallup Farmers' Market
DESCRIPTION:Join us at the Puyallup Farmers’ Market. We can’t wait to see you there!
URL:https://www.centralpiercefire.org/event/puyallup-farmers-market-9/
LOCATION:Pioneer Park\, 330 S Meridian\, Puyallup\, WA\, 98371\, United States
ATTACH;FMTTYPE=image/jpeg:https://www.centralpiercefire.org/wp-content/uploads/Featured-Image-3.jpg
END:VEVENT
BEGIN:VEVENT
DTSTART;TZID=America/Los_Angeles:20250527T180000
DTEND;TZID=America/Los_Angeles:20250527T190000
DTSTAMP:20260421T073320
CREATED:20241231T004408Z
LAST-MODIFIED:20241231T004408Z
UID:10000806-1748368800-1748372400@www.centralpiercefire.org
SUMMARY:Board of Commissioners Meeting
DESCRIPTION:The joint Board of Fire Commissioners meeting will be held virtually and in-person on the second and fourth Monday of the month at 6 p.m. \nAttend Virtually:  \nLink: https://us02web.zoom.us/j/81549238623?pwd=UW1VZ1BURlBBUUd5Y2ZobmZ1TFRndz09 \nWebinar ID: 815 4923 8623 \nPasscode: 586333 \nDial by your location: +1 253 215 8782 \nTo attend in-person: \nPlease join us at 1015 39th Ave. SE\, Suite 120\, Puyallup\, WA 98374. \nFind the Board of Commissioners Meeting Agendas\, Packets\, and Minutes here.
URL:https://www.centralpiercefire.org/event/board-of-commissioners-meeting-27/
LOCATION:Central Pierce Fire & Rescue Headquarters\, 1015 39th Ave. SE\, Suite 120\, Puyallup\, 98374
CATEGORIES:Board Meetings
END:VEVENT
BEGIN:VEVENT
DTSTART;TZID=America/Los_Angeles:20250531T090000
DTEND;TZID=America/Los_Angeles:20250531T140000
DTSTAMP:20260421T073320
CREATED:20250418T163539Z
LAST-MODIFIED:20250418T164139Z
UID:10000851-1748682000-1748700000@www.centralpiercefire.org
SUMMARY:Puyallup Farmers' Market
DESCRIPTION:Join us at the Puyallup Farmers’ Market. We can’t wait to see you there!
URL:https://www.centralpiercefire.org/event/puyallup-farmers-market-10/
LOCATION:Pioneer Park\, 330 S Meridian\, Puyallup\, WA\, 98371\, United States
ATTACH;FMTTYPE=image/jpeg:https://www.centralpiercefire.org/wp-content/uploads/Featured-Image-3.jpg
END:VEVENT
BEGIN:VEVENT
DTSTART;TZID=America/Los_Angeles:20250531T110000
DTEND;TZID=America/Los_Angeles:20250531T130000
DTSTAMP:20260421T073320
CREATED:20250430T214004Z
LAST-MODIFIED:20250430T214551Z
UID:10000883-1748689200-1748696400@www.centralpiercefire.org
SUMMARY:Scout Day Open House
DESCRIPTION:Join us for our upcoming Scout Day open house on Saturday\, May 31\, 2025\, from 11:00 am to 1:00 pm at Station 72 (3809 5th St SE\, Puyallup\, WA). This open house is for Girl Scout and Boy Scout groups to experience a variety of merit badge and certificate topics with our community partners: Pierce County Sheriff\, Puyallup Police Department\, South Sound 911\, and American Red Cross. \nClick here to RSVP your scout group.
URL:https://www.centralpiercefire.org/event/scout-day-open-house/
LOCATION:Station 72\, 3809 5th St SE\, Puyallup\, WA\, 98374\, United States
END:VEVENT
END:VCALENDAR