BEGIN:VCALENDAR
VERSION:2.0
PRODID:-//Central Pierce Fire &amp; Rescue - ECPv6.15.20//NONSGML v1.0//EN
CALSCALE:GREGORIAN
METHOD:PUBLISH
X-WR-CALNAME:Central Pierce Fire &amp; Rescue
X-ORIGINAL-URL:https://www.centralpiercefire.org
X-WR-CALDESC:Events for Central Pierce Fire &amp; Rescue
REFRESH-INTERVAL;VALUE=DURATION:PT1H
X-Robots-Tag:noindex
X-PUBLISHED-TTL:PT1H
BEGIN:VTIMEZONE
TZID:America/Los_Angeles
BEGIN:DAYLIGHT
TZOFFSETFROM:-0800
TZOFFSETTO:-0700
TZNAME:PDT
DTSTART:20240310T100000
END:DAYLIGHT
BEGIN:STANDARD
TZOFFSETFROM:-0700
TZOFFSETTO:-0800
TZNAME:PST
DTSTART:20241103T090000
END:STANDARD
BEGIN:DAYLIGHT
TZOFFSETFROM:-0800
TZOFFSETTO:-0700
TZNAME:PDT
DTSTART:20250309T100000
END:DAYLIGHT
BEGIN:STANDARD
TZOFFSETFROM:-0700
TZOFFSETTO:-0800
TZNAME:PST
DTSTART:20251102T090000
END:STANDARD
BEGIN:DAYLIGHT
TZOFFSETFROM:-0800
TZOFFSETTO:-0700
TZNAME:PDT
DTSTART:20260308T100000
END:DAYLIGHT
BEGIN:STANDARD
TZOFFSETFROM:-0700
TZOFFSETTO:-0800
TZNAME:PST
DTSTART:20261101T090000
END:STANDARD
END:VTIMEZONE
BEGIN:VEVENT
DTSTART;TZID=America/Los_Angeles:20250401T160000
DTEND;TZID=America/Los_Angeles:20250401T170000
DTSTAMP:20260421T103014
CREATED:20250319T204018Z
LAST-MODIFIED:20250320T204149Z
UID:10000840-1743523200-1743526800@www.centralpiercefire.org
SUMMARY:Virtual Community Meeting
DESCRIPTION:Join us on Tuesday\, April 1st\, 2025\, from 4:00 PM to 5:00 PM for a Virtual Community Meeting to discuss how your fire districts are collaborating to better serve our communities. Our Fire Chief will share insights on how this partnership is enhancing services and will be available to answer your questions.\n\nAlthough only residents of Graham and Orting will vote on the proposed fire district merger\, we invite all community members to participate and share their questions and thoughts on how the merger may affect them.\n\nRegister in advance for this webinar: https://zoom.us/webinar/register/WN_pF_A0fHoSJaekWHxfpdqvw
URL:https://www.centralpiercefire.org/event/virtual-community-meeting/
LOCATION:WA
ATTACH;FMTTYPE=image/png:https://www.centralpiercefire.org/wp-content/uploads/Featured-Image.png
END:VEVENT
BEGIN:VEVENT
DTSTART;TZID=America/Los_Angeles:20250405T080000
DTEND;TZID=America/Los_Angeles:20250405T170000
DTSTAMP:20260421T103014
CREATED:20250102T154216Z
LAST-MODIFIED:20250102T154216Z
UID:10000827-1743840000-1743872400@www.centralpiercefire.org
SUMMARY:CPR & First Aid Class
DESCRIPTION:Join us for our CPR & First Aid class! For more information about the class and how to sign up\, visit our CPR & First Aid page. Click here for more information.
URL:https://www.centralpiercefire.org/event/cpr-first-aid-class-8/2025-04-05/
LOCATION:Station 71\, 902 7th St NW\, Puyallup\, WA\, 98371\, United States
ATTACH;FMTTYPE=image/jpeg:https://www.centralpiercefire.org/wp-content/uploads/Featured-Image-8.jpg
END:VEVENT
END:VCALENDAR