BEGIN:VCALENDAR
VERSION:2.0
PRODID:-//Central Pierce Fire &amp; Rescue - ECPv6.15.20//NONSGML v1.0//EN
CALSCALE:GREGORIAN
METHOD:PUBLISH
X-ORIGINAL-URL:https://www.centralpiercefire.org
X-WR-CALDESC:Events for Central Pierce Fire &amp; Rescue
REFRESH-INTERVAL;VALUE=DURATION:PT1H
X-Robots-Tag:noindex
X-PUBLISHED-TTL:PT1H
BEGIN:VTIMEZONE
TZID:America/Los_Angeles
BEGIN:DAYLIGHT
TZOFFSETFROM:-0800
TZOFFSETTO:-0700
TZNAME:PDT
DTSTART:20250309T100000
END:DAYLIGHT
BEGIN:STANDARD
TZOFFSETFROM:-0700
TZOFFSETTO:-0800
TZNAME:PST
DTSTART:20251102T090000
END:STANDARD
BEGIN:DAYLIGHT
TZOFFSETFROM:-0800
TZOFFSETTO:-0700
TZNAME:PDT
DTSTART:20260308T100000
END:DAYLIGHT
BEGIN:STANDARD
TZOFFSETFROM:-0700
TZOFFSETTO:-0800
TZNAME:PST
DTSTART:20261101T090000
END:STANDARD
BEGIN:DAYLIGHT
TZOFFSETFROM:-0800
TZOFFSETTO:-0700
TZNAME:PDT
DTSTART:20270314T100000
END:DAYLIGHT
BEGIN:STANDARD
TZOFFSETFROM:-0700
TZOFFSETTO:-0800
TZNAME:PST
DTSTART:20271107T090000
END:STANDARD
END:VTIMEZONE
BEGIN:VEVENT
DTSTART;TZID=America/Los_Angeles:20260112T180000
DTEND;TZID=America/Los_Angeles:20260112T190000
DTSTAMP:20260419T002247
CREATED:20251231T214248Z
LAST-MODIFIED:20251231T215027Z
UID:10000962-1768240800-1768244400@www.centralpiercefire.org
SUMMARY:Board of Commissioners Meeting
DESCRIPTION:The joint Board of Fire Commissioners meeting will be held virtually and in-person on the second and fourth Monday of the month at 6 p.m. \nAttend Virtually:  \nLink: https://us02web.zoom.us/j/81549238623?pwd=UW1VZ1BURlBBUUd5Y2ZobmZ1TFRndz09 \nWebinar ID: 815 4923 8623 \nPasscode: 586333 \nDial by your location: +1 253 215 8782 \nTo attend in-person: \nPlease join us at 1015 39th Ave. SE\, Suite 120\, Puyallup\, WA 98374. \nFind the Board of Commissioners Meeting Agendas\, Packets\, and Minutes here.
URL:https://www.centralpiercefire.org/event/board-of-commissioners-meeting-42/2026-01-12/
LOCATION:Central Pierce Fire & Rescue Headquarters\, 1015 39th Ave. SE\, Suite 120\, Puyallup\, 98374
CATEGORIES:Board Meetings
END:VEVENT
BEGIN:VEVENT
DTSTART;TZID=America/Los_Angeles:20260116T090000
DTEND;TZID=America/Los_Angeles:20260116T150000
DTSTAMP:20260419T002247
CREATED:20251107T213818Z
LAST-MODIFIED:20251107T213818Z
UID:10000898-1768554000-1768575600@www.centralpiercefire.org
SUMMARY:Community Blood Drive
DESCRIPTION:Please join us for a community blood drive on January 16\, 2026\, from 9:00 AM to 3:00 PM. Click here to view the available appointment times and to sign up.
URL:https://www.centralpiercefire.org/event/community-blood-drive-4/
LOCATION:Station 72\, 3809 5th St SE\, Puyallup\, WA\, 98374\, United States
ATTACH;FMTTYPE=image/png:https://www.centralpiercefire.org/wp-content/uploads/Website-Event-Calendar-copy-2.png
END:VEVENT
END:VCALENDAR