BEGIN:VCALENDAR
VERSION:2.0
PRODID:-//Central Pierce Fire &amp; Rescue - ECPv6.15.20//NONSGML v1.0//EN
CALSCALE:GREGORIAN
METHOD:PUBLISH
X-WR-CALNAME:Central Pierce Fire &amp; Rescue
X-ORIGINAL-URL:https://www.centralpiercefire.org
X-WR-CALDESC:Events for Central Pierce Fire &amp; Rescue
REFRESH-INTERVAL;VALUE=DURATION:PT1H
X-Robots-Tag:noindex
X-PUBLISHED-TTL:PT1H
BEGIN:VTIMEZONE
TZID:America/Los_Angeles
BEGIN:DAYLIGHT
TZOFFSETFROM:-0800
TZOFFSETTO:-0700
TZNAME:PDT
DTSTART:20230312T100000
END:DAYLIGHT
BEGIN:STANDARD
TZOFFSETFROM:-0700
TZOFFSETTO:-0800
TZNAME:PST
DTSTART:20231105T090000
END:STANDARD
BEGIN:DAYLIGHT
TZOFFSETFROM:-0800
TZOFFSETTO:-0700
TZNAME:PDT
DTSTART:20240310T100000
END:DAYLIGHT
BEGIN:STANDARD
TZOFFSETFROM:-0700
TZOFFSETTO:-0800
TZNAME:PST
DTSTART:20241103T090000
END:STANDARD
BEGIN:DAYLIGHT
TZOFFSETFROM:-0800
TZOFFSETTO:-0700
TZNAME:PDT
DTSTART:20250309T100000
END:DAYLIGHT
BEGIN:STANDARD
TZOFFSETFROM:-0700
TZOFFSETTO:-0800
TZNAME:PST
DTSTART:20251102T090000
END:STANDARD
BEGIN:DAYLIGHT
TZOFFSETFROM:-0800
TZOFFSETTO:-0700
TZNAME:PDT
DTSTART:20260308T100000
END:DAYLIGHT
BEGIN:STANDARD
TZOFFSETFROM:-0700
TZOFFSETTO:-0800
TZNAME:PST
DTSTART:20261101T090000
END:STANDARD
END:VTIMEZONE
BEGIN:VEVENT
DTSTART;TZID=America/Los_Angeles:20250413T100000
DTEND;TZID=America/Los_Angeles:20250413T200000
DTSTAMP:20260421T191104
CREATED:20250319T211902Z
LAST-MODIFIED:20250319T211902Z
UID:10000844-1744538400-1744574400@www.centralpiercefire.org
SUMMARY:Spring Fair
DESCRIPTION:Join us at the Washington State Spring Fair. We can’t wait to see you there!
URL:https://www.centralpiercefire.org/event/spring-fair-13/
LOCATION:Station 70\, 110 9th Ave SW\, Puyallup\, WA\, 98371\, United States
END:VEVENT
BEGIN:VEVENT
DTSTART;TZID=America/Los_Angeles:20250412T100000
DTEND;TZID=America/Los_Angeles:20250412T220000
DTSTAMP:20260421T191104
CREATED:20250319T211823Z
LAST-MODIFIED:20250319T211823Z
UID:10000843-1744452000-1744495200@www.centralpiercefire.org
SUMMARY:Spring Fair
DESCRIPTION:Join us at the Washington State Spring Fair. We can’t wait to see you there!
URL:https://www.centralpiercefire.org/event/spring-fair-12/
LOCATION:Station 70\, 110 9th Ave SW\, Puyallup\, WA\, 98371\, United States
END:VEVENT
BEGIN:VEVENT
DTSTART;TZID=America/Los_Angeles:20250411T100000
DTEND;TZID=America/Los_Angeles:20250411T220000
DTSTAMP:20260421T191104
CREATED:20250319T211747Z
LAST-MODIFIED:20250319T211747Z
UID:10000842-1744365600-1744408800@www.centralpiercefire.org
SUMMARY:Spring Fair
DESCRIPTION:Join us at the Washington State Spring Fair. We can’t wait to see you there!
URL:https://www.centralpiercefire.org/event/spring-fair-11/
LOCATION:Station 70\, 110 9th Ave SW\, Puyallup\, WA\, 98371\, United States
END:VEVENT
BEGIN:VEVENT
DTSTART;TZID=America/Los_Angeles:20250410T140000
DTEND;TZID=America/Los_Angeles:20250410T220000
DTSTAMP:20260421T191104
CREATED:20250319T211708Z
LAST-MODIFIED:20250319T211708Z
UID:10000841-1744293600-1744322400@www.centralpiercefire.org
SUMMARY:Spring Fair
DESCRIPTION:Join us at the Washington State Spring Fair. We can’t wait to see you there!
URL:https://www.centralpiercefire.org/event/spring-fair-10/
LOCATION:Station 70\, 110 9th Ave SW\, Puyallup\, WA\, 98371\, United States
END:VEVENT
BEGIN:VEVENT
DTSTART;TZID=America/Los_Angeles:20240922T093000
DTEND;TZID=America/Los_Angeles:20240922T213000
DTSTAMP:20260421T191104
CREATED:20240624T172109Z
LAST-MODIFIED:20240624T172109Z
UID:10000796-1726997400-1727040600@www.centralpiercefire.org
SUMMARY:Washington State Fair
DESCRIPTION:Join us at the Washington State Fair. We can’t wait to see you there!
URL:https://www.centralpiercefire.org/event/washington-state-fair-20/
LOCATION:Station 70\, 110 9th Ave SW\, Puyallup\, WA\, 98371\, United States
END:VEVENT
BEGIN:VEVENT
DTSTART;TZID=America/Los_Angeles:20240921T093000
DTEND;TZID=America/Los_Angeles:20240921T223000
DTSTAMP:20260421T191104
CREATED:20240624T172035Z
LAST-MODIFIED:20240624T172035Z
UID:10000795-1726911000-1726957800@www.centralpiercefire.org
SUMMARY:Washington State Fair
DESCRIPTION:Join us at the Washington State Fair. We can’t wait to see you there!
URL:https://www.centralpiercefire.org/event/washington-state-fair-19/
LOCATION:Station 70\, 110 9th Ave SW\, Puyallup\, WA\, 98371\, United States
END:VEVENT
BEGIN:VEVENT
DTSTART;TZID=America/Los_Angeles:20240920T103000
DTEND;TZID=America/Los_Angeles:20240920T223000
DTSTAMP:20260421T191104
CREATED:20240624T171927Z
LAST-MODIFIED:20240624T171927Z
UID:10000794-1726828200-1726871400@www.centralpiercefire.org
SUMMARY:Washington State Fair
DESCRIPTION:Join us at the Washington State Fair. We can’t wait to see you there!
URL:https://www.centralpiercefire.org/event/washington-state-fair-18/
LOCATION:Station 70\, 110 9th Ave SW\, Puyallup\, WA\, 98371\, United States
END:VEVENT
BEGIN:VEVENT
DTSTART;TZID=America/Los_Angeles:20240919T103000
DTEND;TZID=America/Los_Angeles:20240919T213000
DTSTAMP:20260421T191104
CREATED:20240624T171844Z
LAST-MODIFIED:20240624T171844Z
UID:10000793-1726741800-1726781400@www.centralpiercefire.org
SUMMARY:Washington State Fair
DESCRIPTION:Join us at the Washington State Fair. We can’t wait to see you there!
URL:https://www.centralpiercefire.org/event/washington-state-fair-17/
LOCATION:Station 70\, 110 9th Ave SW\, Puyallup\, WA\, 98371\, United States
END:VEVENT
BEGIN:VEVENT
DTSTART;TZID=America/Los_Angeles:20240918T103000
DTEND;TZID=America/Los_Angeles:20240918T213000
DTSTAMP:20260421T191104
CREATED:20240624T171804Z
LAST-MODIFIED:20240624T171804Z
UID:10000792-1726655400-1726695000@www.centralpiercefire.org
SUMMARY:Washington State Fair
DESCRIPTION:Join us at the Washington State Fair. We can’t wait to see you there!
URL:https://www.centralpiercefire.org/event/washington-state-fair-16/
LOCATION:Station 70\, 110 9th Ave SW\, Puyallup\, WA\, 98371\, United States
END:VEVENT
BEGIN:VEVENT
DTSTART;TZID=America/Los_Angeles:20240916T103000
DTEND;TZID=America/Los_Angeles:20240916T213000
DTSTAMP:20260421T191104
CREATED:20240624T171726Z
LAST-MODIFIED:20240624T171726Z
UID:10000791-1726482600-1726522200@www.centralpiercefire.org
SUMMARY:Washington State Fair
DESCRIPTION:Join us at the Washington State Fair. We can’t wait to see you there!
URL:https://www.centralpiercefire.org/event/washington-state-fair-15/
LOCATION:Station 70\, 110 9th Ave SW\, Puyallup\, WA\, 98371\, United States
END:VEVENT
BEGIN:VEVENT
DTSTART;TZID=America/Los_Angeles:20240915T093000
DTEND;TZID=America/Los_Angeles:20240915T213000
DTSTAMP:20260421T191104
CREATED:20240624T171652Z
LAST-MODIFIED:20240624T171652Z
UID:10000790-1726392600-1726435800@www.centralpiercefire.org
SUMMARY:Washington State Fair
DESCRIPTION:Join us at the Washington State Fair. We can’t wait to see you there!
URL:https://www.centralpiercefire.org/event/washington-state-fair-14/
LOCATION:Station 70\, 110 9th Ave SW\, Puyallup\, WA\, 98371\, United States
END:VEVENT
BEGIN:VEVENT
DTSTART;TZID=America/Los_Angeles:20240914T093000
DTEND;TZID=America/Los_Angeles:20240914T223000
DTSTAMP:20260421T191104
CREATED:20240624T171618Z
LAST-MODIFIED:20240624T171618Z
UID:10000789-1726306200-1726353000@www.centralpiercefire.org
SUMMARY:Washington State Fair
DESCRIPTION:Join us at the Washington State Fair. We can’t wait to see you there!
URL:https://www.centralpiercefire.org/event/washington-state-fair-13/
LOCATION:Station 70\, 110 9th Ave SW\, Puyallup\, WA\, 98371\, United States
END:VEVENT
BEGIN:VEVENT
DTSTART;TZID=America/Los_Angeles:20240913T103000
DTEND;TZID=America/Los_Angeles:20240913T223000
DTSTAMP:20260421T191104
CREATED:20240624T171533Z
LAST-MODIFIED:20240624T171533Z
UID:10000788-1726223400-1726266600@www.centralpiercefire.org
SUMMARY:Washington State Fair
DESCRIPTION:Join us at the Washington State Fair. We can’t wait to see you there!
URL:https://www.centralpiercefire.org/event/washington-state-fair-12/
LOCATION:Station 70\, 110 9th Ave SW\, Puyallup\, WA\, 98371\, United States
END:VEVENT
BEGIN:VEVENT
DTSTART;TZID=America/Los_Angeles:20240912T103000
DTEND;TZID=America/Los_Angeles:20240912T213000
DTSTAMP:20260421T191104
CREATED:20240624T171445Z
LAST-MODIFIED:20240624T171445Z
UID:10000787-1726137000-1726176600@www.centralpiercefire.org
SUMMARY:Washington State Fair
DESCRIPTION:Join us at the Washington State Fair. We can’t wait to see you there!
URL:https://www.centralpiercefire.org/event/washington-state-fair-11/
LOCATION:Station 70\, 110 9th Ave SW\, Puyallup\, WA\, 98371\, United States
END:VEVENT
BEGIN:VEVENT
DTSTART;TZID=America/Los_Angeles:20240911T103000
DTEND;TZID=America/Los_Angeles:20240911T213000
DTSTAMP:20260421T191104
CREATED:20240624T171408Z
LAST-MODIFIED:20240624T171408Z
UID:10000786-1726050600-1726090200@www.centralpiercefire.org
SUMMARY:Washington State Fair
DESCRIPTION:Join us at the Washington State Fair. We can’t wait to see you there!
URL:https://www.centralpiercefire.org/event/washington-state-fair-10/
LOCATION:Station 70\, 110 9th Ave SW\, Puyallup\, WA\, 98371\, United States
END:VEVENT
BEGIN:VEVENT
DTSTART;TZID=America/Los_Angeles:20240909T103000
DTEND;TZID=America/Los_Angeles:20240909T213000
DTSTAMP:20260421T191104
CREATED:20240624T171331Z
LAST-MODIFIED:20240624T171331Z
UID:10000785-1725877800-1725917400@www.centralpiercefire.org
SUMMARY:Washington State Fair
DESCRIPTION:Join us at the Washington State Fair. We can’t wait to see you there!
URL:https://www.centralpiercefire.org/event/washington-state-fair-9/
LOCATION:Station 70\, 110 9th Ave SW\, Puyallup\, WA\, 98371\, United States
END:VEVENT
BEGIN:VEVENT
DTSTART;TZID=America/Los_Angeles:20240908T093000
DTEND;TZID=America/Los_Angeles:20240908T213000
DTSTAMP:20260421T191104
CREATED:20240624T171250Z
LAST-MODIFIED:20240624T171250Z
UID:10000784-1725787800-1725831000@www.centralpiercefire.org
SUMMARY:Washington State Fair
DESCRIPTION:Join us at the Washington State Fair. We can’t wait to see you there!
URL:https://www.centralpiercefire.org/event/washington-state-fair-8/
LOCATION:Station 70\, 110 9th Ave SW\, Puyallup\, WA\, 98371\, United States
END:VEVENT
BEGIN:VEVENT
DTSTART;TZID=America/Los_Angeles:20240907T093000
DTEND;TZID=America/Los_Angeles:20240907T223000
DTSTAMP:20260421T191104
CREATED:20240624T171210Z
LAST-MODIFIED:20240624T171210Z
UID:10000783-1725701400-1725748200@www.centralpiercefire.org
SUMMARY:Washington State Fair
DESCRIPTION:Join us at the Washington State Fair. We can’t wait to see you there!
URL:https://www.centralpiercefire.org/event/washington-state-fair-7/
LOCATION:Station 70\, 110 9th Ave SW\, Puyallup\, WA\, 98371\, United States
END:VEVENT
BEGIN:VEVENT
DTSTART;TZID=America/Los_Angeles:20240906T103000
DTEND;TZID=America/Los_Angeles:20240906T223000
DTSTAMP:20260421T191104
CREATED:20240624T171126Z
LAST-MODIFIED:20240624T171126Z
UID:10000782-1725618600-1725661800@www.centralpiercefire.org
SUMMARY:Washington State Fair
DESCRIPTION:Join us at the Washington State Fair. We can’t wait to see you there!
URL:https://www.centralpiercefire.org/event/washington-state-fair-6/
LOCATION:Station 70\, 110 9th Ave SW\, Puyallup\, WA\, 98371\, United States
END:VEVENT
BEGIN:VEVENT
DTSTART;TZID=America/Los_Angeles:20240905T103000
DTEND;TZID=America/Los_Angeles:20240905T213000
DTSTAMP:20260421T191104
CREATED:20240624T171046Z
LAST-MODIFIED:20240624T171046Z
UID:10000781-1725532200-1725571800@www.centralpiercefire.org
SUMMARY:Washington State Fair
DESCRIPTION:Join us at the Washington State Fair. We can’t wait to see you there!
URL:https://www.centralpiercefire.org/event/washington-state-fair-5/
LOCATION:Station 70\, 110 9th Ave SW\, Puyallup\, WA\, 98371\, United States
END:VEVENT
BEGIN:VEVENT
DTSTART;TZID=America/Los_Angeles:20240902T093000
DTEND;TZID=America/Los_Angeles:20240902T213000
DTSTAMP:20260421T191104
CREATED:20240624T171002Z
LAST-MODIFIED:20240624T171002Z
UID:10000780-1725269400-1725312600@www.centralpiercefire.org
SUMMARY:Washington State Fair
DESCRIPTION:Join us at the Washington State Fair. We can’t wait to see you there!
URL:https://www.centralpiercefire.org/event/washington-state-fair-4/
LOCATION:Station 70\, 110 9th Ave SW\, Puyallup\, WA\, 98371\, United States
END:VEVENT
BEGIN:VEVENT
DTSTART;TZID=America/Los_Angeles:20240901T093000
DTEND;TZID=America/Los_Angeles:20240901T223000
DTSTAMP:20260421T191104
CREATED:20240624T170908Z
LAST-MODIFIED:20240624T170915Z
UID:10000779-1725183000-1725229800@www.centralpiercefire.org
SUMMARY:Washington State Fair
DESCRIPTION:Join us at the Washington State Fair. We can’t wait to see you there!
URL:https://www.centralpiercefire.org/event/washington-state-fair-3/
LOCATION:Station 70\, 110 9th Ave SW\, Puyallup\, WA\, 98371\, United States
END:VEVENT
BEGIN:VEVENT
DTSTART;TZID=America/Los_Angeles:20240831T093000
DTEND;TZID=America/Los_Angeles:20240831T223000
DTSTAMP:20260421T191104
CREATED:20240624T170830Z
LAST-MODIFIED:20240624T170830Z
UID:10000778-1725096600-1725143400@www.centralpiercefire.org
SUMMARY:Washington State Fair
DESCRIPTION:Join us at the Washington State Fair. We can’t wait to see you there!
URL:https://www.centralpiercefire.org/event/washington-state-fair-2/
LOCATION:Station 70\, 110 9th Ave SW\, Puyallup\, WA\, 98371\, United States
END:VEVENT
BEGIN:VEVENT
DTSTART;TZID=America/Los_Angeles:20240830T103000
DTEND;TZID=America/Los_Angeles:20240830T223000
DTSTAMP:20260421T191104
CREATED:20240624T170716Z
LAST-MODIFIED:20240624T170716Z
UID:10000777-1725013800-1725057000@www.centralpiercefire.org
SUMMARY:Washington State Fair
DESCRIPTION:Join us at the Washington State Fair. We can’t wait to see you there!
URL:https://www.centralpiercefire.org/event/washington-state-fair/
LOCATION:Station 70\, 110 9th Ave SW\, Puyallup\, WA\, 98371\, United States
END:VEVENT
BEGIN:VEVENT
DTSTART;TZID=America/Los_Angeles:20240421T100000
DTEND;TZID=America/Los_Angeles:20240421T200000
DTSTAMP:20260421T191104
CREATED:20240321T000156Z
LAST-MODIFIED:20240321T000156Z
UID:10000601-1713693600-1713729600@www.centralpiercefire.org
SUMMARY:Spring Fair
DESCRIPTION:Join us at the Washington State Spring Fair. We can’t wait to see you there!
URL:https://www.centralpiercefire.org/event/spring-fair-9/
LOCATION:Station 70\, 110 9th Ave SW\, Puyallup\, WA\, 98371\, United States
ATTACH;FMTTYPE=image/jpeg:https://www.centralpiercefire.org/wp-content/uploads/Featured-Image-1.jpg
END:VEVENT
BEGIN:VEVENT
DTSTART;TZID=America/Los_Angeles:20240420T100000
DTEND;TZID=America/Los_Angeles:20240420T220000
DTSTAMP:20260421T191104
CREATED:20240321T000056Z
LAST-MODIFIED:20240321T000056Z
UID:10000600-1713607200-1713650400@www.centralpiercefire.org
SUMMARY:Spring Fair
DESCRIPTION:Join us at the Washington State Spring Fair. We can’t wait to see you there!
URL:https://www.centralpiercefire.org/event/spring-fair-8/
LOCATION:Station 70\, 110 9th Ave SW\, Puyallup\, WA\, 98371\, United States
ATTACH;FMTTYPE=image/jpeg:https://www.centralpiercefire.org/wp-content/uploads/Featured-Image-1.jpg
END:VEVENT
BEGIN:VEVENT
DTSTART;TZID=America/Los_Angeles:20240419T100000
DTEND;TZID=America/Los_Angeles:20240419T220000
DTSTAMP:20260421T191104
CREATED:20240320T235957Z
LAST-MODIFIED:20240320T235957Z
UID:10000599-1713520800-1713564000@www.centralpiercefire.org
SUMMARY:Spring Fair
DESCRIPTION:Join us at the Washington State Spring Fair. We can’t wait to see you there!
URL:https://www.centralpiercefire.org/event/spring-fair-7/
LOCATION:Station 70\, 110 9th Ave SW\, Puyallup\, WA\, 98371\, United States
ATTACH;FMTTYPE=image/jpeg:https://www.centralpiercefire.org/wp-content/uploads/Featured-Image-1.jpg
END:VEVENT
BEGIN:VEVENT
DTSTART;TZID=America/Los_Angeles:20240418T140000
DTEND;TZID=America/Los_Angeles:20240418T220000
DTSTAMP:20260421T191104
CREATED:20240320T235841Z
LAST-MODIFIED:20240320T235900Z
UID:10000598-1713448800-1713477600@www.centralpiercefire.org
SUMMARY:Spring Fair
DESCRIPTION:Join us at the Washington State Spring Fair. We can’t wait to see you there!
URL:https://www.centralpiercefire.org/event/spring-fair-6/
LOCATION:Station 70\, 110 9th Ave SW\, Puyallup\, WA\, 98371\, United States
ATTACH;FMTTYPE=image/jpeg:https://www.centralpiercefire.org/wp-content/uploads/Featured-Image-1.jpg
END:VEVENT
BEGIN:VEVENT
DTSTART;TZID=America/Los_Angeles:20240413T100000
DTEND;TZID=America/Los_Angeles:20240413T220000
DTSTAMP:20260421T191104
CREATED:20240320T234607Z
LAST-MODIFIED:20240320T234607Z
UID:10000596-1713002400-1713045600@www.centralpiercefire.org
SUMMARY:Spring Fair
DESCRIPTION:Join us at the Washington State Spring Fair. We can’t wait to see you there!
URL:https://www.centralpiercefire.org/event/spring-fair-4/
LOCATION:Station 70\, 110 9th Ave SW\, Puyallup\, WA\, 98371\, United States
ATTACH;FMTTYPE=image/jpeg:https://www.centralpiercefire.org/wp-content/uploads/Featured-Image-1.jpg
END:VEVENT
BEGIN:VEVENT
DTSTART;TZID=America/Los_Angeles:20240412T100000
DTEND;TZID=America/Los_Angeles:20240412T220000
DTSTAMP:20260421T191104
CREATED:20240320T234426Z
LAST-MODIFIED:20240320T234629Z
UID:10000595-1712916000-1712959200@www.centralpiercefire.org
SUMMARY:Spring Fair
DESCRIPTION:Join us at the Washington State Spring Fair. We can’t wait to see you there!
URL:https://www.centralpiercefire.org/event/spring-fair-3/
LOCATION:Station 70\, 110 9th Ave SW\, Puyallup\, WA\, 98371\, United States
ATTACH;FMTTYPE=image/jpeg:https://www.centralpiercefire.org/wp-content/uploads/Featured-Image-1.jpg
END:VEVENT
END:VCALENDAR